BEGIN:VCALENDAR
VERSION:2.0
PRODID:-//Magnolia Baptist Church - ECPv6.15.17//NONSGML v1.0//EN
CALSCALE:GREGORIAN
METHOD:PUBLISH
X-WR-CALNAME:Magnolia Baptist Church
X-ORIGINAL-URL:https://magnoliabaptistms.com
X-WR-CALDESC:Events for Magnolia Baptist Church
REFRESH-INTERVAL;VALUE=DURATION:PT1H
X-Robots-Tag:noindex
X-PUBLISHED-TTL:PT1H
BEGIN:VTIMEZONE
TZID:UTC
BEGIN:STANDARD
TZOFFSETFROM:+0000
TZOFFSETTO:+0000
TZNAME:UTC
DTSTART:20230101T000000
END:STANDARD
END:VTIMEZONE
BEGIN:VEVENT
DTSTART;TZID=UTC:20240214T180000
DTEND;TZID=UTC:20240214T200000
DTSTAMP:20260420T095246
CREATED:20240210T205411Z
LAST-MODIFIED:20240210T205411Z
UID:4766-1707933600-1707940800@magnoliabaptistms.com
SUMMARY:Awana Children's Ministry
DESCRIPTION:Awana meets on Wednesday nights at 6:15 for students of all ages. Valerie Sanders is the Awana \nCommander.
URL:https://magnoliabaptistms.com/event/awana-childrens-ministry
LOCATION:Magnolia Baptist Church\, 148 King Road\, Hattiesburg\, MS\, 39402
ATTACH;FMTTYPE=image/png:https://magnoliabaptistms.com/wp-content/uploads/2024/01/Awana-Announcment-2.png
END:VEVENT
BEGIN:VEVENT
DTSTART;TZID=UTC:20240211T170000
DTEND;TZID=UTC:20240211T180000
DTSTAMP:20260420T095246
CREATED:20240203T192333Z
LAST-MODIFIED:20240210T210543Z
UID:4748-1707670800-1707674400@magnoliabaptistms.com
SUMMARY:February 11- February Sunday Nights of Revival at Magnolia Baptist Church
DESCRIPTION:February Nights of Revival at Magnolia Baptist Church \nFebruary 11\, 2024 at 5pm \nPastor Donald Brown \nBuffalo Baptist Church\, McLain\, MS
URL:https://magnoliabaptistms.com/event/february-11-february-nights-of-revival-at-magnolia-baptist-church
LOCATION:Magnolia Baptist Church\, 148 King Road\, Hattiesburg\, MS\, 39402
ATTACH;FMTTYPE=image/png:https://magnoliabaptistms.com/wp-content/uploads/2024/02/3-left-Sunday-Night-Revival.png
END:VEVENT
BEGIN:VEVENT
DTSTART;TZID=UTC:20240211T110000
DTEND;TZID=UTC:20240211T120000
DTSTAMP:20260420T095246
CREATED:20240210T210257Z
LAST-MODIFIED:20240210T210257Z
UID:4770-1707649200-1707652800@magnoliabaptistms.com
SUMMARY:Morning Worship
DESCRIPTION:Morning Worship begins each Sunday at 11:00. Nursery services are available.
URL:https://magnoliabaptistms.com/event/morning-worship
LOCATION:Magnolia Baptist Church\, 148 King Road\, Hattiesburg\, MS\, 39402
ATTACH;FMTTYPE=image/png:https://magnoliabaptistms.com/wp-content/uploads/2024/01/Join-US-1.png
END:VEVENT
BEGIN:VEVENT
DTSTART;TZID=UTC:20240211T100000
DTEND;TZID=UTC:20240211T110000
DTSTAMP:20260420T095246
CREATED:20240210T210139Z
LAST-MODIFIED:20240210T210139Z
UID:4768-1707645600-1707649200@magnoliabaptistms.com
SUMMARY:Bible Classes
DESCRIPTION:Bible classes for all age groups meet on Sunday mornings at 10:00.
URL:https://magnoliabaptistms.com/event/bible-classes
LOCATION:Magnolia Baptist Church\, 148 King Road\, Hattiesburg\, MS\, 39402
ATTACH;FMTTYPE=image/jpeg:https://magnoliabaptistms.com/wp-content/uploads/2019/01/bible-christianity-church-52513.jpg
END:VEVENT
BEGIN:VEVENT
DTSTART;TZID=UTC:20240204T170000
DTEND;TZID=UTC:20240204T180000
DTSTAMP:20260420T095246
CREATED:20240203T192112Z
LAST-MODIFIED:20240203T192427Z
UID:4746-1707066000-1707069600@magnoliabaptistms.com
SUMMARY:February 4- February Sunday Nights of Revival at Magnolia Baptist Church
DESCRIPTION:February Nights of Revival at Magnolia Baptist Church \nFebruary 4\, 2024 at 5pm \nPastor Bryan Atwood \nHarvest Church\, Gulfport\, Mississippi \n 
URL:https://magnoliabaptistms.com/event/february-nights-of-revival-at-magnolia-baptist-church
LOCATION:Magnolia Baptist Church\, 148 King Road\, Hattiesburg\, MS\, 39402
ATTACH;FMTTYPE=image/png:https://magnoliabaptistms.com/wp-content/uploads/2024/01/Sunday-Night-Revival.png
END:VEVENT
BEGIN:VEVENT
DTSTART;VALUE=DATE:20240201
DTEND;VALUE=DATE:20240301
DTSTAMP:20260420T095246
CREATED:20240210T204847Z
LAST-MODIFIED:20240210T204847Z
UID:4762-1706745600-1709251199@magnoliabaptistms.com
SUMMARY:Hope Clinic Baby Bottle Event
DESCRIPTION:The Hope Clinic Baby Bottle Ministry is being conducted during February. Baby bottles to use in the collection of coins\, bills\, and checks are available on the foyer and altar tables\, and the deposit bucket is beside the altar table.
URL:https://magnoliabaptistms.com/event/hope-clinic-baby-bottle-event
ATTACH;FMTTYPE=image/png:https://magnoliabaptistms.com/wp-content/uploads/2024/01/2-Hope-Clinic.png
END:VEVENT
END:VCALENDAR