BEGIN:VCALENDAR
VERSION:2.0
PRODID:-//Magnolia Baptist Church - ECPv6.15.17//NONSGML v1.0//EN
CALSCALE:GREGORIAN
METHOD:PUBLISH
X-ORIGINAL-URL:https://magnoliabaptistms.com
X-WR-CALDESC:Events for Magnolia Baptist Church
REFRESH-INTERVAL;VALUE=DURATION:PT1H
X-Robots-Tag:noindex
X-PUBLISHED-TTL:PT1H
BEGIN:VTIMEZONE
TZID:UTC
BEGIN:STANDARD
TZOFFSETFROM:+0000
TZOFFSETTO:+0000
TZNAME:UTC
DTSTART:20230101T000000
END:STANDARD
END:VTIMEZONE
BEGIN:VEVENT
DTSTART;TZID=UTC:20240412T093000
DTEND;TZID=UTC:20240412T140000
DTSTAMP:20260420T083216
CREATED:20240402T155027Z
LAST-MODIFIED:20240402T155132Z
UID:4820-1712914200-1712930400@magnoliabaptistms.com
SUMMARY:Senior Adult Outing to Columbia
DESCRIPTION:Senior Adult Outing to Columbia \nFriday\, April 12\, 9:30 a.m.: Senior Adult Outing to Columbia for museum and Magnolia Grill
URL:https://magnoliabaptistms.com/event/senior-adult-outing-to-columbia
ATTACH;FMTTYPE=image/png:https://magnoliabaptistms.com/wp-content/uploads/2024/03/Senior-Outing-24.png
END:VEVENT
BEGIN:VEVENT
DTSTART;TZID=UTC:20240407T170000
DTEND;TZID=UTC:20240407T180000
DTSTAMP:20260420T083216
CREATED:20240402T154748Z
LAST-MODIFIED:20240402T154748Z
UID:4818-1712509200-1712512800@magnoliabaptistms.com
SUMMARY:Worship at the Pavilion
DESCRIPTION:Worship at the Pavilion \nSunday\, April 7 @ 5 PM \nIce Cream Treats following Worship
URL:https://magnoliabaptistms.com/event/worship-at-the-pavilion
LOCATION:Magnolia Baptist Church Pavilion\, 148 King Road\, Hattiesburg\, MS\, 39402\, United States
ATTACH;FMTTYPE=image/png:https://magnoliabaptistms.com/wp-content/uploads/2024/03/Worship-at-Pavilion.png
END:VEVENT
BEGIN:VEVENT
DTSTART;VALUE=DATE:20240331
DTEND;VALUE=DATE:20240401
DTSTAMP:20260420T083216
CREATED:20240203T191633Z
LAST-MODIFIED:20240228T211555Z
UID:4744-1711843200-1711929599@magnoliabaptistms.com
SUMMARY:Easter Sunday
DESCRIPTION:Easter Sunday \nMarch 31 \nSunday School 10 AM \nWorship  11 AM \nLord’s Supper 5 PM
URL:https://magnoliabaptistms.com/event/easter-sunday
LOCATION:Magnolia Baptist Church\, 148 King Road\, Hattiesburg\, MS\, 39402
ATTACH;FMTTYPE=image/png:https://magnoliabaptistms.com/wp-content/uploads/2024/02/NEW-Easter-1.png
END:VEVENT
BEGIN:VEVENT
DTSTART;VALUE=DATE:20240317
DTEND;VALUE=DATE:20240318
DTSTAMP:20260420T083216
CREATED:20240222T221104Z
LAST-MODIFIED:20240222T221439Z
UID:4791-1710633600-1710719999@magnoliabaptistms.com
SUMMARY:Guest Speaker
DESCRIPTION:Guest Speaker: Pastor Justin Burdick from Southaven\, MS on Sunday\, March 17\, 11:00 a.m. and 5:00 p.m.
URL:https://magnoliabaptistms.com/event/guest-speaker
LOCATION:Magnolia Baptist Church\, 148 King Road\, Hattiesburg\, MS\, 39402
ATTACH;FMTTYPE=image/png:https://magnoliabaptistms.com/wp-content/uploads/2024/02/Guest-Speaker-2.png
END:VEVENT
BEGIN:VEVENT
DTSTART;TZID=UTC:20240316T120000
DTEND;TZID=UTC:20240316T140000
DTSTAMP:20260420T083216
CREATED:20240210T205103Z
LAST-MODIFIED:20240228T213457Z
UID:4764-1710590400-1710597600@magnoliabaptistms.com
SUMMARY:Children's Easter Egg Hunt 2024
DESCRIPTION:The Children’s Easter Egg Hunt is scheduled for Saturday\, March 16\, 12:00-200 p.m.\, in the pavilion and\npine grove\, and March 31 is Easter Sunday. Please see Kelsey May about helping during the egg hunt.
URL:https://magnoliabaptistms.com/event/childrens-easter-egg-hunt-2024
LOCATION:Magnolia Baptist Church Pavilion\, 148 King Road\, Hattiesburg\, MS\, 39402\, United States
ATTACH;FMTTYPE=image/png:https://magnoliabaptistms.com/wp-content/uploads/2018/03/Egg-Hunt-2024.png
END:VEVENT
BEGIN:VEVENT
DTSTART;TZID=UTC:20240309T173000
DTEND;TZID=UTC:20240309T193000
DTSTAMP:20260420T083216
CREATED:20240222T220834Z
LAST-MODIFIED:20240222T220834Z
UID:4787-1710005400-1710012600@magnoliabaptistms.com
SUMMARY:South Mississippi Youth Rally
DESCRIPTION:South Mississippi Youth Rally Hosted by Magnolia: Saturday\, March 9\, 5:30-7:30
URL:https://magnoliabaptistms.com/event/south-mississippi-youth-rally
LOCATION:Magnolia Baptist Church\, 148 King Road\, Hattiesburg\, MS\, 39402
ATTACH;FMTTYPE=image/png:https://magnoliabaptistms.com/wp-content/uploads/2024/02/YouthRally.png
END:VEVENT
BEGIN:VEVENT
DTSTART;TZID=UTC:20240303T170000
DTEND;TZID=UTC:20240303T183000
DTSTAMP:20260420T083216
CREATED:20240216T183832Z
LAST-MODIFIED:20240216T183832Z
UID:4776-1709485200-1709490600@magnoliabaptistms.com
SUMMARY:In His Steps Movie
DESCRIPTION:The original Christian film\, In His Steps\, in black and white\, will be shown at Magnolia during Evening Worship on March 3 at 5:00.
URL:https://magnoliabaptistms.com/event/in-his-steps-movie
LOCATION:Magnolia Baptist Church\, 148 King Road\, Hattiesburg\, MS\, 39402
ATTACH;FMTTYPE=image/png:https://magnoliabaptistms.com/wp-content/uploads/2024/02/Film.png
END:VEVENT
BEGIN:VEVENT
DTSTART;TZID=UTC:20240228T180000
DTEND;TZID=UTC:20240228T200000
DTSTAMP:20260420T083216
CREATED:20240222T221801Z
LAST-MODIFIED:20240222T221801Z
UID:4796-1709143200-1709150400@magnoliabaptistms.com
SUMMARY:Awana
DESCRIPTION:Awana meets on Wednesday nights at 6:15 for students of all ages. Valerie Sanders is the Awana Commander.
URL:https://magnoliabaptistms.com/event/awana
LOCATION:Magnolia Baptist Church\, 148 King Road\, Hattiesburg\, MS\, 39402
ATTACH;FMTTYPE=image/png:https://magnoliabaptistms.com/wp-content/uploads/2024/01/Awana-Announcment-2.png
END:VEVENT
BEGIN:VEVENT
DTSTART;TZID=UTC:20240225T170000
DTEND;TZID=UTC:20240225T180000
DTSTAMP:20260420T083216
CREATED:20240203T192907Z
LAST-MODIFIED:20240203T192907Z
UID:4755-1708880400-1708884000@magnoliabaptistms.com
SUMMARY:February 25- Sunday Nights of Revival at Magnolia Baptist Church
DESCRIPTION:February 25 Sunday Nights of Revival at Magnolia Baptist Church \nFebruary 25\, 2024 at 5pm \nPastor Johnny Williams \nGood Hope Baptist Church\, Columbia\, MS
URL:https://magnoliabaptistms.com/event/february-25-sunday-nights-of-revival-at-magnolia-baptist-church
LOCATION:Magnolia Baptist Church\, 148 King Road\, Hattiesburg\, MS\, 39402
ATTACH;FMTTYPE=image/png:https://magnoliabaptistms.com/wp-content/uploads/2024/01/Sunday-Night-Revival.png
END:VEVENT
BEGIN:VEVENT
DTSTART;TZID=UTC:20240218T170000
DTEND;TZID=UTC:20240218T180000
DTSTAMP:20260420T083216
CREATED:20240203T192602Z
LAST-MODIFIED:20240203T192731Z
UID:4752-1708275600-1708279200@magnoliabaptistms.com
SUMMARY:February 18- February Sunday Nights of Revival at Magnolia Baptist Church
DESCRIPTION:February Sunday Nights of Revival at Magnolia Baptist Church \nFebruary 18\, 2024 at 5pm \nPastor Josh Daniels \nThe Refuge Church\, Kiln\, MS
URL:https://magnoliabaptistms.com/event/february-18-february-sunday-nights-of-revival-at-magnolia-baptist-church
LOCATION:Magnolia Baptist Church\, 148 King Road\, Hattiesburg\, MS\, 39402
ATTACH;FMTTYPE=image/png:https://magnoliabaptistms.com/wp-content/uploads/2024/01/Sunday-Night-Revival.png
END:VEVENT
BEGIN:VEVENT
DTSTART;TZID=UTC:20240214T180000
DTEND;TZID=UTC:20240214T200000
DTSTAMP:20260420T083216
CREATED:20240210T205411Z
LAST-MODIFIED:20240210T205411Z
UID:4766-1707933600-1707940800@magnoliabaptistms.com
SUMMARY:Awana Children's Ministry
DESCRIPTION:Awana meets on Wednesday nights at 6:15 for students of all ages. Valerie Sanders is the Awana \nCommander.
URL:https://magnoliabaptistms.com/event/awana-childrens-ministry
LOCATION:Magnolia Baptist Church\, 148 King Road\, Hattiesburg\, MS\, 39402
ATTACH;FMTTYPE=image/png:https://magnoliabaptistms.com/wp-content/uploads/2024/01/Awana-Announcment-2.png
END:VEVENT
BEGIN:VEVENT
DTSTART;TZID=UTC:20240211T170000
DTEND;TZID=UTC:20240211T180000
DTSTAMP:20260420T083216
CREATED:20240203T192333Z
LAST-MODIFIED:20240210T210543Z
UID:4748-1707670800-1707674400@magnoliabaptistms.com
SUMMARY:February 11- February Sunday Nights of Revival at Magnolia Baptist Church
DESCRIPTION:February Nights of Revival at Magnolia Baptist Church \nFebruary 11\, 2024 at 5pm \nPastor Donald Brown \nBuffalo Baptist Church\, McLain\, MS
URL:https://magnoliabaptistms.com/event/february-11-february-nights-of-revival-at-magnolia-baptist-church
LOCATION:Magnolia Baptist Church\, 148 King Road\, Hattiesburg\, MS\, 39402
ATTACH;FMTTYPE=image/png:https://magnoliabaptistms.com/wp-content/uploads/2024/02/3-left-Sunday-Night-Revival.png
END:VEVENT
BEGIN:VEVENT
DTSTART;TZID=UTC:20240211T110000
DTEND;TZID=UTC:20240211T120000
DTSTAMP:20260420T083216
CREATED:20240210T210257Z
LAST-MODIFIED:20240210T210257Z
UID:4770-1707649200-1707652800@magnoliabaptistms.com
SUMMARY:Morning Worship
DESCRIPTION:Morning Worship begins each Sunday at 11:00. Nursery services are available.
URL:https://magnoliabaptistms.com/event/morning-worship
LOCATION:Magnolia Baptist Church\, 148 King Road\, Hattiesburg\, MS\, 39402
ATTACH;FMTTYPE=image/png:https://magnoliabaptistms.com/wp-content/uploads/2024/01/Join-US-1.png
END:VEVENT
BEGIN:VEVENT
DTSTART;TZID=UTC:20240211T100000
DTEND;TZID=UTC:20240211T110000
DTSTAMP:20260420T083216
CREATED:20240210T210139Z
LAST-MODIFIED:20240210T210139Z
UID:4768-1707645600-1707649200@magnoliabaptistms.com
SUMMARY:Bible Classes
DESCRIPTION:Bible classes for all age groups meet on Sunday mornings at 10:00.
URL:https://magnoliabaptistms.com/event/bible-classes
LOCATION:Magnolia Baptist Church\, 148 King Road\, Hattiesburg\, MS\, 39402
ATTACH;FMTTYPE=image/jpeg:https://magnoliabaptistms.com/wp-content/uploads/2019/01/bible-christianity-church-52513.jpg
END:VEVENT
BEGIN:VEVENT
DTSTART;TZID=UTC:20240204T170000
DTEND;TZID=UTC:20240204T180000
DTSTAMP:20260420T083216
CREATED:20240203T192112Z
LAST-MODIFIED:20240203T192427Z
UID:4746-1707066000-1707069600@magnoliabaptistms.com
SUMMARY:February 4- February Sunday Nights of Revival at Magnolia Baptist Church
DESCRIPTION:February Nights of Revival at Magnolia Baptist Church \nFebruary 4\, 2024 at 5pm \nPastor Bryan Atwood \nHarvest Church\, Gulfport\, Mississippi \n 
URL:https://magnoliabaptistms.com/event/february-nights-of-revival-at-magnolia-baptist-church
LOCATION:Magnolia Baptist Church\, 148 King Road\, Hattiesburg\, MS\, 39402
ATTACH;FMTTYPE=image/png:https://magnoliabaptistms.com/wp-content/uploads/2024/01/Sunday-Night-Revival.png
END:VEVENT
BEGIN:VEVENT
DTSTART;VALUE=DATE:20240201
DTEND;VALUE=DATE:20240301
DTSTAMP:20260420T083216
CREATED:20240210T204847Z
LAST-MODIFIED:20240210T204847Z
UID:4762-1706745600-1709251199@magnoliabaptistms.com
SUMMARY:Hope Clinic Baby Bottle Event
DESCRIPTION:The Hope Clinic Baby Bottle Ministry is being conducted during February. Baby bottles to use in the collection of coins\, bills\, and checks are available on the foyer and altar tables\, and the deposit bucket is beside the altar table.
URL:https://magnoliabaptistms.com/event/hope-clinic-baby-bottle-event
ATTACH;FMTTYPE=image/png:https://magnoliabaptistms.com/wp-content/uploads/2024/01/2-Hope-Clinic.png
END:VEVENT
END:VCALENDAR